Package: XVector Version: 0.32.0 Command: /Library/Frameworks/R.framework/Versions/Current/Resources/bin/R CMD INSTALL XVector StartedAt: 2021-10-14 08:26:26 -0400 (Thu, 14 Oct 2021) EndedAt: 2021-10-14 08:27:15 -0400 (Thu, 14 Oct 2021) EllapsedTime: 48.4 seconds RetCode: 0 Status: OK