Package: XVector Version: 0.32.0 Command: /Library/Frameworks/R.framework/Versions/Current/Resources/bin/R CMD build --keep-empty-dirs --no-resave-data XVector StartedAt: 2021-10-14 15:41:50 -0400 (Thu, 14 Oct 2021) EndedAt: 2021-10-14 15:42:06 -0400 (Thu, 14 Oct 2021) EllapsedTime: 16.0 seconds RetCode: 0 Status: OK PackageFile: XVector_0.32.0.tar.gz PackageFileSize: 66.29 KiB