Package: XNAString Version: 1.0.2 Command: chmod a+r XNAString -R && C:\Users\biocbuild\bbs-3.13-bioc\R\bin\R.exe CMD build --keep-empty-dirs --no-resave-data XNAString StartedAt: 2021-10-14 19:10:34 -0400 (Thu, 14 Oct 2021) EndedAt: 2021-10-14 19:14:26 -0400 (Thu, 14 Oct 2021) EllapsedTime: 232.0 seconds RetCode: 0 Status: OK PackageFile: XNAString_1.0.2.tar.gz PackageFileSize: 1.61 MiB