Package: XINA Version: 1.10.0 Command: /home/biocbuild/bbs-3.13-bioc/R/bin/R CMD build --keep-empty-dirs --no-resave-data XINA StartedAt: 2021-10-14 08:41:46 -0400 (Thu, 14 Oct 2021) EndedAt: 2021-10-14 08:42:13 -0400 (Thu, 14 Oct 2021) EllapsedTime: 26.6 seconds RetCode: 0 Status: OK PackageFile: XINA_1.10.0.tar.gz PackageFileSize: 2.646 MiB