Package: XINA Version: 1.10.0 Command: /Library/Frameworks/R.framework/Versions/Current/Resources/bin/R CMD INSTALL XINA StartedAt: 2021-10-14 08:59:47 -0400 (Thu, 14 Oct 2021) EndedAt: 2021-10-14 09:00:44 -0400 (Thu, 14 Oct 2021) EllapsedTime: 57.9 seconds RetCode: 0 Status: OK