Package: XDE Version: 2.38.0 Command: C:\cygwin\bin\curl.exe -O http://155.52.207.165/BBS/3.13/bioc/src/contrib/XDE_2.38.0.tar.gz && rm -rf XDE.buildbin-libdir && mkdir XDE.buildbin-libdir && C:\Users\biocbuild\bbs-3.13-bioc\R\bin\R.exe CMD INSTALL --merge-multiarch --build --library=XDE.buildbin-libdir XDE_2.38.0.tar.gz && C:\Users\biocbuild\bbs-3.13-bioc\R\bin\R.exe CMD INSTALL XDE_2.38.0.zip && rm XDE_2.38.0.tar.gz XDE_2.38.0.zip StartedAt: 2021-10-14 09:17:11 -0400 (Thu, 14 Oct 2021) EndedAt: 2021-10-14 09:19:11 -0400 (Thu, 14 Oct 2021) EllapsedTime: 120.3 seconds RetCode: 0 Status: OK