Package: XCIR Version: 1.6.0 Command: C:\Users\biocbuild\bbs-3.13-bioc\R\bin\R.exe CMD check --force-multiarch --install=check:XCIR.install-out.txt --library=C:\Users\biocbuild\bbs-3.13-bioc\R\library --no-vignettes --timings XCIR_1.6.0.tar.gz StartedAt: 2021-10-15 07:19:47 -0400 (Fri, 15 Oct 2021) EndedAt: 2021-10-15 07:29:43 -0400 (Fri, 15 Oct 2021) EllapsedTime: 596.5 seconds RetCode: 0 Status: OK CheckDir: XCIR.Rcheck Warnings: 0