Package: VariantAnnotation Version: 1.38.0 Command: C:\cygwin\bin\curl.exe -O http://155.52.207.165/BBS/3.13/bioc/src/contrib/VariantAnnotation_1.38.0.tar.gz && rm -rf VariantAnnotation.buildbin-libdir && mkdir VariantAnnotation.buildbin-libdir && C:\Users\biocbuild\bbs-3.13-bioc\R\bin\R.exe CMD INSTALL --merge-multiarch --build --library=VariantAnnotation.buildbin-libdir VariantAnnotation_1.38.0.tar.gz && C:\Users\biocbuild\bbs-3.13-bioc\R\bin\R.exe CMD INSTALL VariantAnnotation_1.38.0.zip && rm VariantAnnotation_1.38.0.tar.gz VariantAnnotation_1.38.0.zip StartedAt: 2021-10-14 10:17:59 -0400 (Thu, 14 Oct 2021) EndedAt: 2021-10-14 10:20:32 -0400 (Thu, 14 Oct 2021) EllapsedTime: 153.4 seconds RetCode: 0 Status: OK