Package: VarCon Version: 1.0.0 Command: chmod a+r VarCon -R && C:\Users\biocbuild\bbs-3.13-bioc\R\bin\R.exe CMD build --keep-empty-dirs --no-resave-data VarCon StartedAt: 2021-10-14 19:02:05 -0400 (Thu, 14 Oct 2021) EndedAt: 2021-10-14 19:03:04 -0400 (Thu, 14 Oct 2021) EllapsedTime: 59.0 seconds RetCode: 0 Status: OK PackageFile: VarCon_1.0.0.tar.gz PackageFileSize: 1.889 MiB