Package: VanillaICE Version: 1.54.0 Command: /home/biocbuild/bbs-3.13-bioc/R/bin/R CMD INSTALL VanillaICE StartedAt: 2021-10-14 06:28:10 -0400 (Thu, 14 Oct 2021) EndedAt: 2021-10-14 06:28:39 -0400 (Thu, 14 Oct 2021) EllapsedTime: 29.7 seconds RetCode: 0 Status: OK