Package: VanillaICE Version: 1.54.0 Command: rm -rf VanillaICE.buildbin-libdir && mkdir VanillaICE.buildbin-libdir && /Users/biocbuild/BBS/utils/build-universal.sh VanillaICE_1.54.0.tar.gz /Library/Frameworks/R.framework/Versions/Current/Resources/bin/R VanillaICE.buildbin-libdir StartedAt: 2021-10-15 04:20:22 -0400 (Fri, 15 Oct 2021) EndedAt: 2021-10-15 04:21:26 -0400 (Fri, 15 Oct 2021) EllapsedTime: 64.1 seconds RetCode: 0 Status: OK PackageFile: VanillaICE_1.54.0.tgz PackageFileSize: 2.908 MiB