Package: VERSO Version: 1.2.0 Command: C:\Users\biocbuild\bbs-3.13-bioc\R\bin\R.exe CMD check --force-multiarch --install=check:VERSO.install-out.txt --library=C:\Users\biocbuild\bbs-3.13-bioc\R\library --no-vignettes --timings VERSO_1.2.0.tar.gz StartedAt: 2021-10-15 07:12:17 -0400 (Fri, 15 Oct 2021) EndedAt: 2021-10-15 07:13:02 -0400 (Fri, 15 Oct 2021) EllapsedTime: 44.8 seconds RetCode: 0 Status: OK CheckDir: VERSO.Rcheck Warnings: 0