git_url: https://git.bioconductor.org/packages/VERSO git_branch: RELEASE_3_13 git_last_commit: db11dc9 git_last_commit_date: 2021-05-19 12:57:13 -0400 (Wed, 19 May 2021) Package: VERSO Version: 1.2.0 Maintainer: Davide Maspero MaintainerEmail: d.maspero at campus.unimib.it