Package: UniProt.ws Version: 2.32.0 Command: chmod a+r UniProt.ws -R && C:\Users\biocbuild\bbs-3.13-bioc\R\bin\R.exe CMD build --keep-empty-dirs --no-resave-data UniProt.ws StartedAt: 2021-10-14 19:00:28 -0400 (Thu, 14 Oct 2021) EndedAt: 2021-10-14 19:02:42 -0400 (Thu, 14 Oct 2021) EllapsedTime: 134.5 seconds RetCode: 1 Status: ERROR PackageFile: None PackageFileSize: NA