Package: UniProt.ws Version: 2.32.0 Command: /home/biocbuild/bbs-3.13-bioc/R/bin/R CMD check --install=check:UniProt.ws.install-out.txt --library=/home/biocbuild/bbs-3.13-bioc/R/library --no-vignettes --timings UniProt.ws_2.32.0.tar.gz StartedAt: 2021-10-14 11:59:01 -0400 (Thu, 14 Oct 2021) EndedAt: 2021-10-14 12:04:36 -0400 (Thu, 14 Oct 2021) EllapsedTime: 335.1 seconds RetCode: 0 Status: OK CheckDir: UniProt.ws.Rcheck Warnings: 0