Package: UniProt.ws Version: 2.32.0 Command: /home/biocbuild/bbs-3.13-bioc/R/bin/R CMD build --keep-empty-dirs --no-resave-data UniProt.ws StartedAt: 2021-10-14 08:38:37 -0400 (Thu, 14 Oct 2021) EndedAt: 2021-10-14 08:40:07 -0400 (Thu, 14 Oct 2021) EllapsedTime: 89.9 seconds RetCode: 0 Status: OK PackageFile: UniProt.ws_2.32.0.tar.gz PackageFileSize: 795.4 KiB