Package: UNDO Version: 1.34.0 Command: C:\cygwin\bin\curl.exe -O http://155.52.207.165/BBS/3.13/bioc/src/contrib/UNDO_1.34.0.tar.gz && rm -rf UNDO.buildbin-libdir && mkdir UNDO.buildbin-libdir && C:\Users\biocbuild\bbs-3.13-bioc\R\bin\R.exe CMD INSTALL --merge-multiarch --build --library=UNDO.buildbin-libdir UNDO_1.34.0.tar.gz && C:\Users\biocbuild\bbs-3.13-bioc\R\bin\R.exe CMD INSTALL UNDO_1.34.0.zip && rm UNDO_1.34.0.tar.gz UNDO_1.34.0.zip StartedAt: 2021-10-14 07:38:12 -0400 (Thu, 14 Oct 2021) EndedAt: 2021-10-14 07:39:11 -0400 (Thu, 14 Oct 2021) EllapsedTime: 59.5 seconds RetCode: 0 Status: OK