Package: UNDO Version: 1.34.0 Command: C:\Users\biocbuild\bbs-3.13-bioc\R\bin\R.exe CMD check --force-multiarch --install=check:UNDO.install-out.txt --library=C:\Users\biocbuild\bbs-3.13-bioc\R\library --no-vignettes --timings UNDO_1.34.0.tar.gz StartedAt: 2021-10-15 07:05:36 -0400 (Fri, 15 Oct 2021) EndedAt: 2021-10-15 07:06:36 -0400 (Fri, 15 Oct 2021) EllapsedTime: 59.3 seconds RetCode: 0 Status: OK CheckDir: UNDO.Rcheck Warnings: 0