Package: UNDO Version: 1.34.0 Command: rm -rf UNDO.buildbin-libdir && mkdir UNDO.buildbin-libdir && C:\Users\biocbuild\bbs-3.13-bioc\R\bin\R.exe CMD INSTALL --merge-multiarch --build --library=UNDO.buildbin-libdir UNDO_1.34.0.tar.gz StartedAt: 2021-10-15 12:20:27 -0400 (Fri, 15 Oct 2021) EndedAt: 2021-10-15 12:21:58 -0400 (Fri, 15 Oct 2021) EllapsedTime: 90.6 seconds RetCode: 0 Status: OK PackageFile: UNDO_1.34.0.zip PackageFileSize: 2.863 MiB