Package: UNDO Version: 1.34.0 Command: /home/biocbuild/bbs-3.13-bioc/R/bin/R CMD INSTALL UNDO StartedAt: 2021-10-14 06:05:05 -0400 (Thu, 14 Oct 2021) EndedAt: 2021-10-14 06:05:09 -0400 (Thu, 14 Oct 2021) EllapsedTime: 3.7 seconds RetCode: 0 Status: OK