Package: UNDO Version: 1.34.0 Command: /home/biocbuild/bbs-3.13-bioc/R/bin/R CMD check --install=check:UNDO.install-out.txt --library=/home/biocbuild/bbs-3.13-bioc/R/library --no-vignettes --timings UNDO_1.34.0.tar.gz StartedAt: 2021-10-14 11:58:59 -0400 (Thu, 14 Oct 2021) EndedAt: 2021-10-14 11:59:38 -0400 (Thu, 14 Oct 2021) EllapsedTime: 39.0 seconds RetCode: 0 Status: OK CheckDir: UNDO.Rcheck Warnings: 0