git_url: https://git.bioconductor.org/packages/UNDO git_branch: RELEASE_3_13 git_last_commit: 93cb5fb git_last_commit_date: 2021-05-19 12:03:47 -0400 (Wed, 19 May 2021) Package: UNDO Version: 1.34.0 Maintainer: Niya Wang MaintainerEmail: wangny at vt.edu