Package: TurboNorm Version: 1.40.0 Command: /home/biocbuild/bbs-3.13-bioc/R/bin/R CMD check --install=check:TurboNorm.install-out.txt --library=/home/biocbuild/bbs-3.13-bioc/R/library --no-vignettes --timings TurboNorm_1.40.0.tar.gz StartedAt: 2021-10-14 11:57:33 -0400 (Thu, 14 Oct 2021) EndedAt: 2021-10-14 11:58:59 -0400 (Thu, 14 Oct 2021) EllapsedTime: 86.1 seconds RetCode: 0 Status: OK CheckDir: TurboNorm.Rcheck Warnings: 0