Package: TransView Version: 1.36.0 Command: /Library/Frameworks/R.framework/Versions/Current/Resources/bin/R CMD build --keep-empty-dirs --no-resave-data TransView StartedAt: 2021-10-14 15:25:01 -0400 (Thu, 14 Oct 2021) EndedAt: 2021-10-14 15:25:42 -0400 (Thu, 14 Oct 2021) EllapsedTime: 41.1 seconds RetCode: 0 Status: OK PackageFile: TransView_1.36.0.tar.gz PackageFileSize: 1.907 MiB