Package: ToPASeq Version: 1.26.0 Command: C:\cygwin\bin\curl.exe -O http://155.52.207.165/BBS/3.13/bioc/src/contrib/ToPASeq_1.26.0.tar.gz && rm -rf ToPASeq.buildbin-libdir && mkdir ToPASeq.buildbin-libdir && C:\Users\biocbuild\bbs-3.13-bioc\R\bin\R.exe CMD INSTALL --merge-multiarch --build --library=ToPASeq.buildbin-libdir ToPASeq_1.26.0.tar.gz && C:\Users\biocbuild\bbs-3.13-bioc\R\bin\R.exe CMD INSTALL ToPASeq_1.26.0.zip && rm ToPASeq_1.26.0.tar.gz ToPASeq_1.26.0.zip StartedAt: 2021-10-14 08:48:01 -0400 (Thu, 14 Oct 2021) EndedAt: 2021-10-14 08:49:42 -0400 (Thu, 14 Oct 2021) EllapsedTime: 101.0 seconds RetCode: 0 Status: OK