Package: TnT Version: 1.14.0 Command: /home/biocbuild/bbs-3.13-bioc/R/bin/R CMD build --keep-empty-dirs --no-resave-data TnT StartedAt: 2021-10-14 08:35:35 -0400 (Thu, 14 Oct 2021) EndedAt: 2021-10-14 08:35:52 -0400 (Thu, 14 Oct 2021) EllapsedTime: 17.9 seconds RetCode: 0 Status: OK PackageFile: TnT_1.14.0.tar.gz PackageFileSize: 229.9 KiB