git_url: https://git.bioconductor.org/packages/TissueEnrich git_branch: RELEASE_3_13 git_last_commit: 27c5ae2 git_last_commit_date: 2021-05-19 12:34:29 -0400 (Wed, 19 May 2021) Package: TissueEnrich Version: 1.12.0 Maintainer: Ashish Jain MaintainerEmail: jain at iastate.edu