Package: TimiRGeN Version: 1.2.0 Command: rm -rf TimiRGeN.buildbin-libdir && mkdir TimiRGeN.buildbin-libdir && /Users/biocbuild/BBS/utils/build-universal.sh TimiRGeN_1.2.0.tar.gz /Library/Frameworks/R.framework/Versions/Current/Resources/bin/R TimiRGeN.buildbin-libdir StartedAt: 2021-10-15 04:14:17 -0400 (Fri, 15 Oct 2021) EndedAt: 2021-10-15 04:15:26 -0400 (Fri, 15 Oct 2021) EllapsedTime: 69.1 seconds RetCode: 0 Status: OK PackageFile: TimiRGeN_1.2.0.tgz PackageFileSize: 2.824 MiB