Package: TRONCO Version: 2.24.0 Command: chmod a+r TRONCO -R && C:\Users\biocbuild\bbs-3.13-bioc\R\bin\R.exe CMD build --keep-empty-dirs --no-resave-data TRONCO StartedAt: 2021-10-14 18:56:55 -0400 (Thu, 14 Oct 2021) EndedAt: 2021-10-14 18:58:44 -0400 (Thu, 14 Oct 2021) EllapsedTime: 109.4 seconds RetCode: 0 Status: OK PackageFile: TRONCO_2.24.0.tar.gz PackageFileSize: 827.6 KiB