Package: TRONCO Version: 2.24.0 Command: /home/biocbuild/bbs-3.13-bioc/R/bin/R CMD check --install=check:TRONCO.install-out.txt --library=/home/biocbuild/bbs-3.13-bioc/R/library --no-vignettes --timings TRONCO_2.24.0.tar.gz StartedAt: 2021-10-14 11:56:58 -0400 (Thu, 14 Oct 2021) EndedAt: 2021-10-14 12:00:04 -0400 (Thu, 14 Oct 2021) EllapsedTime: 185.8 seconds RetCode: 0 Status: OK CheckDir: TRONCO.Rcheck Warnings: 0