Package: TRONCO Version: 2.24.0 Command: rm -rf TRONCO.buildbin-libdir && mkdir TRONCO.buildbin-libdir && /Users/biocbuild/BBS/utils/build-universal.sh TRONCO_2.24.0.tar.gz /Library/Frameworks/R.framework/Versions/Current/Resources/bin/R TRONCO.buildbin-libdir StartedAt: 2021-10-15 04:18:12 -0400 (Fri, 15 Oct 2021) EndedAt: 2021-10-15 04:19:22 -0400 (Fri, 15 Oct 2021) EllapsedTime: 70.8 seconds RetCode: 0 Status: OK PackageFile: TRONCO_2.24.0.tgz PackageFileSize: 1.303 MiB