git_url: https://git.bioconductor.org/packages/TRONCO git_branch: RELEASE_3_13 git_last_commit: 327bbb9 git_last_commit_date: 2021-05-19 12:10:30 -0400 (Wed, 19 May 2021) Package: TRONCO Version: 2.24.0 Maintainer: Luca De Sano MaintainerEmail: luca.desano at gmail.com