Package: TPP2D Version: 1.8.0 Command: rm -rf TPP2D.buildbin-libdir && mkdir TPP2D.buildbin-libdir && /Users/biocbuild/BBS/utils/build-universal.sh TPP2D_1.8.0.tar.gz /Library/Frameworks/R.framework/Versions/Current/Resources/bin/R TPP2D.buildbin-libdir StartedAt: 2021-10-15 04:15:48 -0400 (Fri, 15 Oct 2021) EndedAt: 2021-10-15 04:17:01 -0400 (Fri, 15 Oct 2021) EllapsedTime: 73.1 seconds RetCode: 0 Status: OK PackageFile: TPP2D_1.8.0.tgz PackageFileSize: 1.829 MiB