Package: TOAST Version: 1.6.0 Command: chmod a+r TOAST -R && C:\Users\biocbuild\bbs-3.13-bioc\R\bin\R.exe CMD build --keep-empty-dirs --no-resave-data TOAST StartedAt: 2021-10-14 18:49:46 -0400 (Thu, 14 Oct 2021) EndedAt: 2021-10-14 18:51:37 -0400 (Thu, 14 Oct 2021) EllapsedTime: 110.4 seconds RetCode: 0 Status: OK PackageFile: TOAST_1.6.0.tar.gz PackageFileSize: 3.086 MiB