Package: TOAST Version: 1.6.0 Command: /Library/Frameworks/R.framework/Versions/Current/Resources/bin/R CMD INSTALL TOAST StartedAt: 2021-10-14 09:15:55 -0400 (Thu, 14 Oct 2021) EndedAt: 2021-10-14 09:16:43 -0400 (Thu, 14 Oct 2021) EllapsedTime: 47.5 seconds RetCode: 0 Status: OK