git_url: https://git.bioconductor.org/packages/TNBC.CMS git_branch: RELEASE_3_13 git_last_commit: 8beeb75 git_last_commit_date: 2021-05-19 12:42:24 -0400 (Wed, 19 May 2021) Package: TNBC.CMS Version: 1.8.0 Maintainer: Doyeong Yu MaintainerEmail: parklab.bi at gmail.com