Package: TFutils Version: 1.12.2 Command: chmod a+r TFutils -R && C:\Users\biocbuild\bbs-3.13-bioc\R\bin\R.exe CMD build --keep-empty-dirs --no-resave-data TFutils StartedAt: 2021-10-14 18:46:31 -0400 (Thu, 14 Oct 2021) EndedAt: 2021-10-14 18:47:39 -0400 (Thu, 14 Oct 2021) EllapsedTime: 67.2 seconds RetCode: 1 Status: ERROR PackageFile: None PackageFileSize: NA