Package: TFutils Version: 1.12.2 Command: /home/biocbuild/bbs-3.13-bioc/R/bin/R CMD INSTALL TFutils StartedAt: 2021-10-14 06:19:45 -0400 (Thu, 14 Oct 2021) EndedAt: 2021-10-14 06:20:13 -0400 (Thu, 14 Oct 2021) EllapsedTime: 28.4 seconds RetCode: 0 Status: OK