Package: TFutils Version: 1.12.2 Command: /home/biocbuild/bbs-3.13-bioc/R/bin/R CMD check --install=check:TFutils.install-out.txt --library=/home/biocbuild/bbs-3.13-bioc/R/library --no-vignettes --timings TFutils_1.12.2.tar.gz StartedAt: 2021-10-14 11:50:59 -0400 (Thu, 14 Oct 2021) EndedAt: 2021-10-14 11:55:29 -0400 (Thu, 14 Oct 2021) EllapsedTime: 270.0 seconds RetCode: 0 Status: OK CheckDir: TFutils.Rcheck Warnings: 0