Package: TFutils Version: 1.12.2 Command: /home/biocbuild/bbs-3.13-bioc/R/bin/R CMD build --keep-empty-dirs --no-resave-data TFutils StartedAt: 2021-10-14 08:34:21 -0400 (Thu, 14 Oct 2021) EndedAt: 2021-10-14 08:35:41 -0400 (Thu, 14 Oct 2021) EllapsedTime: 79.7 seconds RetCode: 0 Status: OK PackageFile: TFutils_1.12.2.tar.gz PackageFileSize: 5.958 MiB