Package: TFBSTools Version: 1.30.0 Command: /home/biocbuild/bbs-3.13-bioc/R/bin/R CMD check --install=check:TFBSTools.install-out.txt --library=/home/biocbuild/bbs-3.13-bioc/R/library --no-vignettes --timings TFBSTools_1.30.0.tar.gz StartedAt: 2021-10-14 11:50:50 -0400 (Thu, 14 Oct 2021) EndedAt: 2021-10-14 11:56:28 -0400 (Thu, 14 Oct 2021) EllapsedTime: 338.1 seconds RetCode: 0 Status: OK CheckDir: TFBSTools.Rcheck Warnings: 0