Package: TFBSTools Version: 1.30.0 Command: /home/biocbuild/bbs-3.13-bioc/R/bin/R CMD build --keep-empty-dirs --no-resave-data TFBSTools StartedAt: 2021-10-14 08:34:07 -0400 (Thu, 14 Oct 2021) EndedAt: 2021-10-14 08:35:14 -0400 (Thu, 14 Oct 2021) EllapsedTime: 67.4 seconds RetCode: 0 Status: OK PackageFile: TFBSTools_1.30.0.tar.gz PackageFileSize: 572.5 KiB