Package: TFBSTools
Version: 1.30.0
Command: rm -rf TFBSTools.buildbin-libdir && mkdir TFBSTools.buildbin-libdir && /Users/biocbuild/BBS/utils/build-universal.sh TFBSTools_1.30.0.tar.gz /Library/Frameworks/R.framework/Versions/Current/Resources/bin/R TFBSTools.buildbin-libdir
StartedAt: 2021-10-15 04:13:00 -0400 (Fri, 15 Oct 2021)
EndedAt: 2021-10-15 04:14:12 -0400 (Fri, 15 Oct 2021)
EllapsedTime: 71.7 seconds
RetCode: 0
Status: OK
PackageFile: TFBSTools_1.30.0.tgz
PackageFileSize: 1.734 <A href="http://en.wikipedia.org/wiki/MiB" target="_blank">MiB</A>