Package: TFARM Version: 1.14.0 Command: chmod a+r TFARM -R && C:\Users\biocbuild\bbs-3.13-bioc\R\bin\R.exe CMD build --keep-empty-dirs --no-resave-data TFARM StartedAt: 2021-10-14 18:45:58 -0400 (Thu, 14 Oct 2021) EndedAt: 2021-10-14 18:48:44 -0400 (Thu, 14 Oct 2021) EllapsedTime: 165.9 seconds RetCode: 0 Status: OK PackageFile: TFARM_1.14.0.tar.gz PackageFileSize: 448.2 KiB