Package: SynMut Version: 1.8.0 Command: chmod a+r SynMut -R && C:\Users\biocbuild\bbs-3.13-bioc\R\bin\R.exe CMD build --keep-empty-dirs --no-resave-data SynMut StartedAt: 2021-10-14 18:40:39 -0400 (Thu, 14 Oct 2021) EndedAt: 2021-10-14 18:41:13 -0400 (Thu, 14 Oct 2021) EllapsedTime: 34.7 seconds RetCode: 0 Status: OK PackageFile: SynMut_1.8.0.tar.gz PackageFileSize: 264.1 KiB