Package: SwathXtend Version: 2.14.0 Command: C:\cygwin\bin\curl.exe -O http://155.52.207.165/BBS/3.13/bioc/src/contrib/SwathXtend_2.14.0.tar.gz && rm -rf SwathXtend.buildbin-libdir && mkdir SwathXtend.buildbin-libdir && C:\Users\biocbuild\bbs-3.13-bioc\R\bin\R.exe CMD INSTALL --merge-multiarch --build --library=SwathXtend.buildbin-libdir SwathXtend_2.14.0.tar.gz && C:\Users\biocbuild\bbs-3.13-bioc\R\bin\R.exe CMD INSTALL SwathXtend_2.14.0.zip && rm SwathXtend_2.14.0.tar.gz SwathXtend_2.14.0.zip StartedAt: 2021-10-14 07:18:43 -0400 (Thu, 14 Oct 2021) EndedAt: 2021-10-14 07:22:34 -0400 (Thu, 14 Oct 2021) EllapsedTime: 231.1 seconds RetCode: 0 Status: OK