Package: SwathXtend Version: 2.14.0 Command: C:\Users\biocbuild\bbs-3.13-bioc\R\bin\R.exe CMD check --force-multiarch --install=check:SwathXtend.install-out.txt --library=C:\Users\biocbuild\bbs-3.13-bioc\R\library --no-vignettes --timings SwathXtend_2.14.0.tar.gz StartedAt: 2021-10-15 06:22:42 -0400 (Fri, 15 Oct 2021) EndedAt: 2021-10-15 06:26:03 -0400 (Fri, 15 Oct 2021) EllapsedTime: 200.7 seconds RetCode: 0 Status: WARNINGS CheckDir: SwathXtend.Rcheck Warnings: 1