Package: SwathXtend Version: 2.14.0 Command: chmod a+r SwathXtend -R && C:\Users\biocbuild\bbs-3.13-bioc\R\bin\R.exe CMD build --keep-empty-dirs --no-resave-data SwathXtend StartedAt: 2021-10-14 18:39:01 -0400 (Thu, 14 Oct 2021) EndedAt: 2021-10-14 18:43:08 -0400 (Thu, 14 Oct 2021) EllapsedTime: 247.6 seconds RetCode: 0 Status: OK PackageFile: SwathXtend_2.14.0.tar.gz PackageFileSize: 346.1 MiB