git_url: https://git.bioconductor.org/packages/Sushi git_branch: RELEASE_3_13 git_last_commit: 817131b git_last_commit_date: 2021-05-19 12:04:34 -0400 (Wed, 19 May 2021) Package: Sushi Version: 1.30.0 Maintainer: Douglas H Phanstiel MaintainerEmail: dphansti at stanford.edu