Package: Summix Version: 1.0.3 Command: C:\cygwin\bin\curl.exe -O http://155.52.207.165/BBS/3.13/bioc/src/contrib/Summix_1.0.3.tar.gz && rm -rf Summix.buildbin-libdir && mkdir Summix.buildbin-libdir && C:\Users\biocbuild\bbs-3.13-bioc\R\bin\R.exe CMD INSTALL --merge-multiarch --build --library=Summix.buildbin-libdir Summix_1.0.3.tar.gz && C:\Users\biocbuild\bbs-3.13-bioc\R\bin\R.exe CMD INSTALL Summix_1.0.3.zip && rm Summix_1.0.3.tar.gz Summix_1.0.3.zip StartedAt: 2021-10-14 07:00:43 -0400 (Thu, 14 Oct 2021) EndedAt: 2021-10-14 07:01:46 -0400 (Thu, 14 Oct 2021) EllapsedTime: 63.0 seconds RetCode: 0 Status: OK